BEGIN:VCALENDAR
VERSION:2.0
PRODID:-//SHS | A SAET School - ECPv6.2.8.1//NONSGML v1.0//EN
CALSCALE:GREGORIAN
METHOD:PUBLISH
X-WR-CALNAME:SHS | A SAET School
X-ORIGINAL-URL:https://shs.worcs.sch.uk
X-WR-CALDESC:Events for SHS | A SAET School
REFRESH-INTERVAL;VALUE=DURATION:PT1H
X-Robots-Tag:noindex
X-PUBLISHED-TTL:PT1H
BEGIN:VTIMEZONE
TZID:Europe/London
BEGIN:DAYLIGHT
TZOFFSETFROM:+0000
TZOFFSETTO:+0100
TZNAME:BST
DTSTART:20190331T010000
END:DAYLIGHT
BEGIN:STANDARD
TZOFFSETFROM:+0100
TZOFFSETTO:+0000
TZNAME:GMT
DTSTART:20191027T010000
END:STANDARD
END:VTIMEZONE
BEGIN:VEVENT
DTSTART;VALUE=DATE:20190618
DTEND;VALUE=DATE:20190619
DTSTAMP:20260422T005850
CREATED:20190610T145711Z
LAST-MODIFIED:20190610T145711Z
UID:1625-1560816000-1560902399@shs.worcs.sch.uk
SUMMARY:Mediterranean Day
DESCRIPTION:Baxter College is having a Mediterranean Theme Day in our canteens! To view the full menu\, click here.
URL:https://shs.worcs.sch.uk/event/mediterranean-day/
END:VEVENT
BEGIN:VEVENT
DTSTART;TZID=Europe/London:20190618T181500
DTEND;TZID=Europe/London:20190618T191500
DTSTAMP:20260422T005850
CREATED:20190503T093901Z
LAST-MODIFIED:20190503T093901Z
UID:1410-1560881700-1560885300@shs.worcs.sch.uk
SUMMARY:Parent Council Meeting
DESCRIPTION:More details to come soon.
URL:https://shs.worcs.sch.uk/event/parent-council-meeting/
ATTACH;FMTTYPE=image/jpeg:https://shs.worcs.sch.uk/wp-content/uploads/sites/23/2019/05/writing-336370_1920.jpg
END:VEVENT
END:VCALENDAR