BEGIN:VCALENDAR
VERSION:2.0
PRODID:-//SHS | A SAET School - ECPv6.2.8.1//NONSGML v1.0//EN
CALSCALE:GREGORIAN
METHOD:PUBLISH
X-ORIGINAL-URL:https://shs.worcs.sch.uk
X-WR-CALDESC:Events for SHS | A SAET School
REFRESH-INTERVAL;VALUE=DURATION:PT1H
X-Robots-Tag:noindex
X-PUBLISHED-TTL:PT1H
BEGIN:VTIMEZONE
TZID:Europe/London
BEGIN:DAYLIGHT
TZOFFSETFROM:+0000
TZOFFSETTO:+0100
TZNAME:BST
DTSTART:20190331T010000
END:DAYLIGHT
BEGIN:STANDARD
TZOFFSETFROM:+0100
TZOFFSETTO:+0000
TZNAME:GMT
DTSTART:20191027T010000
END:STANDARD
BEGIN:DAYLIGHT
TZOFFSETFROM:+0000
TZOFFSETTO:+0100
TZNAME:BST
DTSTART:20200329T010000
END:DAYLIGHT
BEGIN:STANDARD
TZOFFSETFROM:+0100
TZOFFSETTO:+0000
TZNAME:GMT
DTSTART:20201025T010000
END:STANDARD
END:VTIMEZONE
BEGIN:VEVENT
DTSTART;TZID=Europe/London:20191223T000000
DTEND;TZID=Europe/London:20200106T000000
DTSTAMP:20260421T140202
CREATED:20190423T122607Z
LAST-MODIFIED:20190423T122607Z
UID:1225-1577059200-1578268800@shs.worcs.sch.uk
SUMMARY:Christmas Break
DESCRIPTION:
URL:https://shs.worcs.sch.uk/event/christmas-break/
ATTACH;FMTTYPE=image/jpeg:https://shs.worcs.sch.uk/wp-content/uploads/sites/23/2019/04/christmas-tree-1149619_1920.jpg
END:VEVENT
END:VCALENDAR