BEGIN:VCALENDAR
VERSION:2.0
PRODID:-//SHS | A SAET School - ECPv6.2.8.1//NONSGML v1.0//EN
CALSCALE:GREGORIAN
METHOD:PUBLISH
X-ORIGINAL-URL:https://shs.worcs.sch.uk
X-WR-CALDESC:Events for SHS | A SAET School
REFRESH-INTERVAL;VALUE=DURATION:PT1H
X-Robots-Tag:noindex
X-PUBLISHED-TTL:PT1H
BEGIN:VTIMEZONE
TZID:Europe/London
BEGIN:DAYLIGHT
TZOFFSETFROM:+0000
TZOFFSETTO:+0100
TZNAME:BST
DTSTART:20210328T010000
END:DAYLIGHT
BEGIN:STANDARD
TZOFFSETFROM:+0100
TZOFFSETTO:+0000
TZNAME:GMT
DTSTART:20211031T010000
END:STANDARD
END:VTIMEZONE
BEGIN:VEVENT
DTSTART;TZID=Europe/London:20210705T080000
DTEND;TZID=Europe/London:20210706T170000
DTSTAMP:20260420T085713
CREATED:20210521T092202Z
LAST-MODIFIED:20210521T092202Z
UID:4614-1625472000-1625590800@shs.worcs.sch.uk
SUMMARY:Transition Induction Days for Year 6 students going into Year 7
DESCRIPTION:
URL:https://shs.worcs.sch.uk/event/transition-induction-days-for-year-6-students-going-into-year-7/
ATTACH;FMTTYPE=:
END:VEVENT
END:VCALENDAR