BEGIN:VCALENDAR
VERSION:2.0
PRODID:-//SHS | A SAET School - ECPv6.2.8.1//NONSGML v1.0//EN
CALSCALE:GREGORIAN
METHOD:PUBLISH
X-WR-CALNAME:SHS | A SAET School
X-ORIGINAL-URL:https://shs.worcs.sch.uk
X-WR-CALDESC:Events for SHS | A SAET School
REFRESH-INTERVAL;VALUE=DURATION:PT1H
X-Robots-Tag:noindex
X-PUBLISHED-TTL:PT1H
BEGIN:VTIMEZONE
TZID:Europe/London
BEGIN:DAYLIGHT
TZOFFSETFROM:+0000
TZOFFSETTO:+0100
TZNAME:BST
DTSTART:20190331T010000
END:DAYLIGHT
BEGIN:STANDARD
TZOFFSETFROM:+0100
TZOFFSETTO:+0000
TZNAME:GMT
DTSTART:20191027T010000
END:STANDARD
END:VTIMEZONE
BEGIN:VEVENT
DTSTART;VALUE=DATE:20190506
DTEND;VALUE=DATE:20190507
DTSTAMP:20260422T005856
CREATED:20190423T114945Z
LAST-MODIFIED:20190423T114945Z
UID:1196-1557100800-1557187199@shs.worcs.sch.uk
SUMMARY:May Day
DESCRIPTION:
URL:https://shs.worcs.sch.uk/event/may-day/
ATTACH;FMTTYPE=image/jpeg:https://shs.worcs.sch.uk/wp-content/uploads/sites/23/2019/04/time-273857_1920.jpg
END:VEVENT
BEGIN:VEVENT
DTSTART;VALUE=DATE:20190527
DTEND;VALUE=DATE:20190528
DTSTAMP:20260422T005856
CREATED:20190423T115251Z
LAST-MODIFIED:20190423T115251Z
UID:1202-1558915200-1559001599@shs.worcs.sch.uk
SUMMARY:Whitsun Bank Holiday
DESCRIPTION:
URL:https://shs.worcs.sch.uk/event/half-term/
ATTACH;FMTTYPE=image/jpeg:https://shs.worcs.sch.uk/wp-content/uploads/sites/23/2019/04/time-273857_1920.jpg
END:VEVENT
BEGIN:VEVENT
DTSTART;TZID=Europe/London:20190527T080000
DTEND;TZID=Europe/London:20190531T170000
DTSTAMP:20260422T005856
CREATED:20190423T123117Z
LAST-MODIFIED:20190423T123117Z
UID:1228-1558944000-1559322000@shs.worcs.sch.uk
SUMMARY:May Half Term
DESCRIPTION:
URL:https://shs.worcs.sch.uk/event/may-half-term/
ATTACH;FMTTYPE=image/jpeg:https://shs.worcs.sch.uk/wp-content/uploads/sites/23/2019/04/sunflower-1127174_1920.jpg
END:VEVENT
END:VCALENDAR