BEGIN:VCALENDAR
VERSION:2.0
PRODID:-//SHS | A SAET School - ECPv6.2.8.1//NONSGML v1.0//EN
CALSCALE:GREGORIAN
METHOD:PUBLISH
X-WR-CALNAME:SHS | A SAET School
X-ORIGINAL-URL:https://shs.worcs.sch.uk
X-WR-CALDESC:Events for SHS | A SAET School
REFRESH-INTERVAL;VALUE=DURATION:PT1H
X-Robots-Tag:noindex
X-PUBLISHED-TTL:PT1H
BEGIN:VTIMEZONE
TZID:Europe/London
BEGIN:DAYLIGHT
TZOFFSETFROM:+0000
TZOFFSETTO:+0100
TZNAME:BST
DTSTART:20190331T010000
END:DAYLIGHT
BEGIN:STANDARD
TZOFFSETFROM:+0100
TZOFFSETTO:+0000
TZNAME:GMT
DTSTART:20191027T010000
END:STANDARD
END:VTIMEZONE
BEGIN:VEVENT
DTSTART;VALUE=DATE:20190613
DTEND;VALUE=DATE:20190614
DTSTAMP:20260421T232003
CREATED:20190503T094029Z
LAST-MODIFIED:20190503T094029Z
UID:1412-1560384000-1560470399@shs.worcs.sch.uk
SUMMARY:Year 5 Summer Showcase
DESCRIPTION:Come and visit us at Baxter College on the 13th of June between 6 – 7:30 pm for our Year 5 Showcase!  \nThis will provide the opportunity to learn more about life at Baxter College and to help you begin to consider secondary school options. \nWhy not take a look at our programme! – Click here to view
URL:https://shs.worcs.sch.uk/event/year-5-summer-showcase/
END:VEVENT
BEGIN:VEVENT
DTSTART;VALUE=DATE:20190618
DTEND;VALUE=DATE:20190619
DTSTAMP:20260421T232003
CREATED:20190610T145711Z
LAST-MODIFIED:20190610T145711Z
UID:1625-1560816000-1560902399@shs.worcs.sch.uk
SUMMARY:Mediterranean Day
DESCRIPTION:Baxter College is having a Mediterranean Theme Day in our canteens! To view the full menu\, click here.
URL:https://shs.worcs.sch.uk/event/mediterranean-day/
END:VEVENT
BEGIN:VEVENT
DTSTART;TZID=Europe/London:20190618T181500
DTEND;TZID=Europe/London:20190618T191500
DTSTAMP:20260421T232003
CREATED:20190503T093901Z
LAST-MODIFIED:20190503T093901Z
UID:1410-1560881700-1560885300@shs.worcs.sch.uk
SUMMARY:Parent Council Meeting
DESCRIPTION:More details to come soon.
URL:https://shs.worcs.sch.uk/event/parent-council-meeting/
ATTACH;FMTTYPE=image/jpeg:https://shs.worcs.sch.uk/wp-content/uploads/sites/23/2019/05/writing-336370_1920.jpg
END:VEVENT
BEGIN:VEVENT
DTSTART;VALUE=DATE:20190619
DTEND;VALUE=DATE:20190620
DTSTAMP:20260421T232003
CREATED:20190503T103900Z
LAST-MODIFIED:20190503T103900Z
UID:1424-1560902400-1560988799@shs.worcs.sch.uk
SUMMARY:PSHE Session
DESCRIPTION:More details to come.
URL:https://shs.worcs.sch.uk/event/pshe-session/
END:VEVENT
BEGIN:VEVENT
DTSTART;VALUE=DATE:20190620
DTEND;VALUE=DATE:20190621
DTSTAMP:20260421T232003
CREATED:20190503T094755Z
LAST-MODIFIED:20190503T094755Z
UID:1418-1560988800-1561075199@shs.worcs.sch.uk
SUMMARY:SAET Arts Day
DESCRIPTION:More details to come soon.
URL:https://shs.worcs.sch.uk/event/saet-arts-day/
ATTACH;FMTTYPE=image/png:https://shs.worcs.sch.uk/wp-content/uploads/sites/23/2019/05/g934.png
END:VEVENT
BEGIN:VEVENT
DTSTART;VALUE=DATE:20190625
DTEND;VALUE=DATE:20190626
DTSTAMP:20260421T232003
CREATED:20190503T093208Z
LAST-MODIFIED:20190503T093208Z
UID:1404-1561420800-1561507199@shs.worcs.sch.uk
SUMMARY:Year 11 Sixth Form Induction & PCE
DESCRIPTION:More details to come soon.
URL:https://shs.worcs.sch.uk/event/year-11-sixth-form-induction-pce/
END:VEVENT
BEGIN:VEVENT
DTSTART;TZID=Europe/London:20190627T163000
DTEND;TZID=Europe/London:20190627T190000
DTSTAMP:20260421T232003
CREATED:20190423T115532Z
LAST-MODIFIED:20190423T115532Z
UID:1205-1561653000-1561662000@shs.worcs.sch.uk
SUMMARY:Year 7 Parent Evening
DESCRIPTION:
URL:https://shs.worcs.sch.uk/event/half-term-2/
ATTACH;FMTTYPE=image/png:https://shs.worcs.sch.uk/wp-content/uploads/sites/23/2019/05/Notices.png
END:VEVENT
BEGIN:VEVENT
DTSTART;VALUE=DATE:20190628
DTEND;VALUE=DATE:20190629
DTSTAMP:20260421T232003
CREATED:20190423T115909Z
LAST-MODIFIED:20190423T115909Z
UID:1210-1561680000-1561766399@shs.worcs.sch.uk
SUMMARY:Training Day
DESCRIPTION:School is closed to students due to a training day.
URL:https://shs.worcs.sch.uk/event/training-day/
ATTACH;FMTTYPE=image/jpeg:https://shs.worcs.sch.uk/wp-content/uploads/sites/23/2019/04/african-descent-3472462_1920-1.jpg
END:VEVENT
BEGIN:VEVENT
DTSTART;TZID=Europe/London:20190628T183000
DTEND;TZID=Europe/London:20190628T223000
DTSTAMP:20260421T232003
CREATED:20190423T120040Z
LAST-MODIFIED:20190423T120040Z
UID:1212-1561746600-1561761000@shs.worcs.sch.uk
SUMMARY:Year 11 Prom
DESCRIPTION:More details to come.
URL:https://shs.worcs.sch.uk/event/year-11-prom/
ATTACH;FMTTYPE=:
END:VEVENT
END:VCALENDAR