BEGIN:VCALENDAR
VERSION:2.0
PRODID:-//SHS | A SAET School - ECPv6.2.8.1//NONSGML v1.0//EN
CALSCALE:GREGORIAN
METHOD:PUBLISH
X-ORIGINAL-URL:https://shs.worcs.sch.uk
X-WR-CALDESC:Events for SHS | A SAET School
REFRESH-INTERVAL;VALUE=DURATION:PT1H
X-Robots-Tag:noindex
X-PUBLISHED-TTL:PT1H
BEGIN:VTIMEZONE
TZID:Europe/London
BEGIN:DAYLIGHT
TZOFFSETFROM:+0000
TZOFFSETTO:+0100
TZNAME:BST
DTSTART:20210328T010000
END:DAYLIGHT
BEGIN:STANDARD
TZOFFSETFROM:+0100
TZOFFSETTO:+0000
TZNAME:GMT
DTSTART:20211031T010000
END:STANDARD
END:VTIMEZONE
BEGIN:VEVENT
DTSTART;VALUE=DATE:20210528
DTEND;VALUE=DATE:20210529
DTSTAMP:20260420T104802
CREATED:20210521T091512Z
LAST-MODIFIED:20210521T091512Z
UID:4612-1622160000-1622246399@shs.worcs.sch.uk
SUMMARY:Last day in school for Year 11 & 13
DESCRIPTION:N.B. some students may need to attend during the week commencing Monday 7 June 2021 to ‘catch-up’ for those that have missed assessments or need to submit additional evidence.
URL:https://shs.worcs.sch.uk/event/last-day-in-school-for-year-11-13/
ATTACH;FMTTYPE=:
END:VEVENT
BEGIN:VEVENT
DTSTART;TZID=Europe/London:20210531T080000
DTEND;TZID=Europe/London:20210604T170000
DTSTAMP:20260420T104802
CREATED:20210521T091801Z
LAST-MODIFIED:20210521T091801Z
UID:4613-1622448000-1622826000@shs.worcs.sch.uk
SUMMARY:Whitsun Half Term
DESCRIPTION:
URL:https://shs.worcs.sch.uk/event/whitsun-half-term/
ATTACH;FMTTYPE=image/jpeg:https://shs.worcs.sch.uk/wp-content/uploads/sites/23/2019/04/sunflower-1127174_1920.jpg
END:VEVENT
END:VCALENDAR